BEGIN:VCALENDAR
VERSION:2.0
PRODID:-//Christ Presbyterian Church - ECPv6.15.20//NONSGML v1.0//EN
CALSCALE:GREGORIAN
METHOD:PUBLISH
X-WR-CALNAME:Christ Presbyterian Church
X-ORIGINAL-URL:https://christpresboise.org
X-WR-CALDESC:Events for Christ Presbyterian Church
REFRESH-INTERVAL;VALUE=DURATION:PT1H
X-Robots-Tag:noindex
X-PUBLISHED-TTL:PT1H
BEGIN:VTIMEZONE
TZID:America/Denver
BEGIN:DAYLIGHT
TZOFFSETFROM:-0700
TZOFFSETTO:-0600
TZNAME:MDT
DTSTART:20250309T090000
END:DAYLIGHT
BEGIN:STANDARD
TZOFFSETFROM:-0600
TZOFFSETTO:-0700
TZNAME:MST
DTSTART:20251102T080000
END:STANDARD
BEGIN:DAYLIGHT
TZOFFSETFROM:-0700
TZOFFSETTO:-0600
TZNAME:MDT
DTSTART:20260308T090000
END:DAYLIGHT
BEGIN:STANDARD
TZOFFSETFROM:-0600
TZOFFSETTO:-0700
TZNAME:MST
DTSTART:20261101T080000
END:STANDARD
BEGIN:DAYLIGHT
TZOFFSETFROM:-0700
TZOFFSETTO:-0600
TZNAME:MDT
DTSTART:20270314T090000
END:DAYLIGHT
BEGIN:STANDARD
TZOFFSETFROM:-0600
TZOFFSETTO:-0700
TZNAME:MST
DTSTART:20271107T080000
END:STANDARD
END:VTIMEZONE
BEGIN:VTIMEZONE
TZID:UTC
BEGIN:STANDARD
TZOFFSETFROM:+0000
TZOFFSETTO:+0000
TZNAME:UTC
DTSTART:20250101T000000
END:STANDARD
END:VTIMEZONE
BEGIN:VEVENT
DTSTART;TZID=America/Denver:20260423T083000
DTEND;TZID=America/Denver:20260423T103000
DTSTAMP:20260423T102648
CREATED:20260305T194721Z
LAST-MODIFIED:20260319T162834Z
UID:10738-1776933000-1776940200@christpresboise.org
SUMMARY:Men's Bible Study: Thursdays
DESCRIPTION:
URL:https://christpresboise.org/event/mens-bible-study-thursdays-10/
LOCATION:Christ Presbyterian Church\, 6858 N. Glenwood St.\, Garden City\, ID\, 83714\, United States
CATEGORIES:All Events,Thursdays
END:VEVENT
BEGIN:VEVENT
DTSTART;TZID=America/Denver:20260424T180000
DTEND;TZID=America/Denver:20260424T200000
DTSTAMP:20260423T102648
CREATED:20260326T215733Z
LAST-MODIFIED:20260326T221640Z
UID:10899-1777053600-1777060800@christpresboise.org
SUMMARY:Christ Kids: Fired Up Friday!
DESCRIPTION:  Fired Up Friday this month is April 24th from 6–8 PM!Our heart is to provide free and safe childcare for Treasure Valley families once a month as a way to love our community! Kids enjoy games\, crafts\, prizes\, Legos\, and food in a Christ-centered environment while parents get a few hours off. Hosted by Pastor Doug and his wife Sara\, Next Generation Ministry Associate Sophia\, and a team of volunteers.
URL:https://christpresboise.org/event/christ-kids-fired-up-friday/
LOCATION:Christ Presbyterian Church\, 6858 N. Glenwood St.\, Garden City\, ID\, 83714\, United States
ATTACH;FMTTYPE=image/png:https://christpresboise.org/wp-content/uploads/2026/03/FUF-2.27.26-scaled.png
END:VEVENT
BEGIN:VEVENT
DTSTART;TZID=UTC:20260425T103000
DTEND;TZID=UTC:20260425T113000
DTSTAMP:20260423T102648
CREATED:20260305T195441Z
LAST-MODIFIED:20260305T195441Z
UID:10754-1777113000-1777116600@christpresboise.org
SUMMARY:Women's Bible Study: Saturdays
DESCRIPTION:
URL:https://christpresboise.org/event/womens-bible-study-saturdays-8/
LOCATION:Christ Presbyterian Church\, 6858 N. Glenwood St.\, Garden City\, ID\, 83714\, United States
CATEGORIES:All Events,Saturdays
END:VEVENT
BEGIN:VEVENT
DTSTART;TZID=UTC:20260425T103000
DTEND;TZID=UTC:20260425T113000
DTSTAMP:20260423T102648
CREATED:20260305T200236Z
LAST-MODIFIED:20260305T200236Z
UID:10764-1777113000-1777116600@christpresboise.org
SUMMARY:Men's Bible Study: Saturdays
DESCRIPTION:
URL:https://christpresboise.org/event/mens-bible-study-saturdays-28/
LOCATION:Christ Presbyterian Church\, 6858 N. Glenwood St.\, Garden City\, ID\, 83714\, United States
CATEGORIES:All Events,Saturdays
END:VEVENT
BEGIN:VEVENT
DTSTART;TZID=UTC:20260426T100000
DTEND;TZID=UTC:20260426T113000
DTSTAMP:20260423T102648
CREATED:20260218T031228Z
LAST-MODIFIED:20260218T031228Z
UID:10670-1777197600-1777203000@christpresboise.org
SUMMARY:Worship Service: Sunday Morning
DESCRIPTION:
URL:https://christpresboise.org/event/worship-service-sunday-morning-10/
LOCATION:Christ Presbyterian Church\, 6858 N. Glenwood St.\, Garden City\, ID\, 83714\, United States
CATEGORIES:All Events,Sundays
END:VEVENT
BEGIN:VEVENT
DTSTART;TZID=UTC:20260426T170000
DTEND;TZID=UTC:20260426T180000
DTSTAMP:20260423T102648
CREATED:20260218T031334Z
LAST-MODIFIED:20260218T031415Z
UID:10672-1777222800-1777226400@christpresboise.org
SUMMARY:Worship Service: Sunday Evening
DESCRIPTION:
URL:https://christpresboise.org/event/worship-service-sunday-evening-11/
LOCATION:Christ Presbyterian Church\, 6858 N. Glenwood St.\, Garden City\, ID\, 83714\, United States
CATEGORIES:All Events,Sundays
END:VEVENT
BEGIN:VEVENT
DTSTART;TZID=America/Denver:20260428T090000
DTEND;TZID=America/Denver:20260428T110000
DTSTAMP:20260423T102648
CREATED:20260305T193919Z
LAST-MODIFIED:20260410T163944Z
UID:10730-1777366800-1777374000@christpresboise.org
SUMMARY:Precepts Bible Study
DESCRIPTION:Join us for Precepts\, a Bible study at Christ Presbyterian Church. We’ll meet March 31\, April 7\, 14\, 21\, and 28\, from 9:00 to 11:00 AM to dive deeply into God’s Word and grow together in faith. \nCome for fellowship\, learning\, and encouragement as we explore Scripture together!
URL:https://christpresboise.org/event/precepts-bible-study-4/
LOCATION:Christ Presbyterian Church\, 6858 N. Glenwood St.\, Garden City\, ID\, 83714\, United States
CATEGORIES:All Events
END:VEVENT
BEGIN:VEVENT
DTSTART;TZID=America/Denver:20260429T190000
DTEND;TZID=America/Denver:20260429T200000
DTSTAMP:20260423T102648
CREATED:20260422T170021Z
LAST-MODIFIED:20260422T170021Z
UID:10934-1777489200-1777492800@christpresboise.org
SUMMARY:Conversations: Why So Many Denominations
DESCRIPTION:Join us in April for our next Conversations series: Why So Many Denominations?\nTogether\, we’ll explore why there are so many different Christian denominations\, where these distinctions come from\, and what truly unites believers in Christ. We’ll look at what the Bible says\, how history has shaped the church\, and how these differences impact our faith today.\nWhether you’ve always wondered about the variety of churches\, have questions about specific beliefs\, or simply want a clearer understanding of the broader Christian landscape\, this discussion is for you.\nWednesdays\, April 8\, 15\, 22\, and 29 from 7–8pm.We would love to have you join the conversation!
URL:https://christpresboise.org/event/conversations-why-so-many-denominations-2/
LOCATION:Christ Presbyterian Church\, 6858 N. Glenwood St.\, Garden City\, ID\, 83714\, United States
CATEGORIES:All Events,Wednesdays
END:VEVENT
BEGIN:VEVENT
DTSTART;TZID=America/Denver:20260430T083000
DTEND;TZID=America/Denver:20260430T103000
DTSTAMP:20260423T102648
CREATED:20260305T194754Z
LAST-MODIFIED:20260319T162922Z
UID:10740-1777537800-1777545000@christpresboise.org
SUMMARY:Men's Bible Study: Thursdays
DESCRIPTION:
URL:https://christpresboise.org/event/mens-bible-study-thursdays-11/
LOCATION:Christ Presbyterian Church\, 6858 N. Glenwood St.\, Garden City\, ID\, 83714\, United States
CATEGORIES:All Events,Thursdays
END:VEVENT
END:VCALENDAR